BEGIN:VCALENDAR
VERSION:2.0
PRODID:-//Plone.org//NONSGML plone.app.event//EN
X-WR-TIMEZONE:Europe/Rome
BEGIN:VEVENT
SUMMARY:Avviso del 17 giugno 2025 - Convocazione del C.d.A.
DTSTART;TZID=Europe/Rome:20250623T183000
DTSTAMP:20260422T083843Z
UID:5fc7994a87f344dc801d86dd1f3439d5@plone6
CONTACT:asbucsantanatolia2024@gmail.com\, https://asbucsantanatolia.it/
CREATED:20201126T170055Z
DESCRIPTION:Convocazione del Consiglio di Amministrazione per il giorno 23
 -06-2025 alle ore 18:30 - Prot. 17 del 17/06/2025
LAST-MODIFIED:20250620T231847Z
LOCATION:Sede ASBUC Sant'Anatolia
URL:https://asbucsantanatolia.it/albo-pretorio/avvisi/avviso-del-17-giugno
 -2025-convocazione-del-c-d-a
END:VEVENT
BEGIN:VTIMEZONE
TZID:Europe/Rome
X-LIC-LOCATION:Europe/Rome
BEGIN:DAYLIGHT
DTSTART:20250330T030000
TZNAME:CEST
TZOFFSETFROM:+0100
TZOFFSETTO:+0200
END:DAYLIGHT
END:VTIMEZONE
END:VCALENDAR
