BEGIN:VCALENDAR
VERSION:2.0
PRODID:-//Plone.org//NONSGML plone.app.event//EN
X-WR-TIMEZONE:Europe/Rome
BEGIN:VEVENT
SUMMARY:Avviso del 24 novembre 2017
DTSTART;VALUE=DATE:20171210
DTEND;VALUE=DATE:20171211
DTSTAMP:20260424T033847Z
UID:0823e263e6114f199b4b8568daffe41b@plone6
CREATED:20160316T143644Z
DESCRIPTION:10 dicembre 2017 - Elezione del Presidente e Consiglieri dell'
 Amministrazione Separata dei Beni e degli Usi Civici
LAST-MODIFIED:20171221T132646Z
LOCATION:Sant'Anatolia
URL:https://asbucsantanatolia.it/albo-pretorio/avvisi/avviso-del-24-novemb
 re-2017
END:VEVENT
END:VCALENDAR
