BEGIN:VCALENDAR
VERSION:2.0
PRODID:-//Plone.org//NONSGML plone.app.event//EN
X-WR-TIMEZONE:Europe/Rome
BEGIN:VEVENT
SUMMARY:Avviso del 3 ottobre 2015
DTSTART;VALUE=DATE:20151025
DTEND;VALUE=DATE:20151026
DTSTAMP:20260424T053556Z
UID:24d06e47ab404b0d9a315ead94b40319@plone6
CREATED:20160316T143644Z
DESCRIPTION:25 ottobre 2015 - Elezione del Presidente e Consiglieri dell'A
 mministrazione Separata dei Beni e degli Usi Civici
LAST-MODIFIED:20171222T153723Z
URL:https://asbucsantanatolia.it/albo-pretorio/avvisi/avviso-del-3-ottobre
 -2015
END:VEVENT
END:VCALENDAR
